BEGIN:VCALENDAR
VERSION:2.0
PRODID:-//UNAE - ECPv6.15.20//NONSGML v1.0//EN
CALSCALE:GREGORIAN
METHOD:PUBLISH
X-WR-CALNAME:UNAE
X-ORIGINAL-URL:https://unae.edu.ec
X-WR-CALDESC:Eventos para UNAE
REFRESH-INTERVAL;VALUE=DURATION:PT1H
X-Robots-Tag:noindex
X-PUBLISHED-TTL:PT1H
BEGIN:VTIMEZONE
TZID:America/Guayaquil
BEGIN:STANDARD
TZOFFSETFROM:-0500
TZOFFSETTO:-0500
TZNAME:-05
DTSTART:20240101T000000
END:STANDARD
END:VTIMEZONE
BEGIN:VEVENT
DTSTART;VALUE=DATE:20250308
DTEND;VALUE=DATE:20250309
DTSTAMP:20260425T080418
CREATED:20250224T184359Z
LAST-MODIFIED:20250224T191414Z
UID:35594-1741392000-1741478399@unae.edu.ec
SUMMARY:Incorporaciones UNAE 2025
DESCRIPTION:
URL:https://unae.edu.ec/evento/incorporaciones-unae-2025/
CATEGORIES:Destacados
ATTACH;FMTTYPE=image/jpeg:https://unae.edu.ec/wp-content/uploads/2025/02/grado-2025.jpeg
END:VEVENT
BEGIN:VEVENT
DTSTART;VALUE=DATE:20250516
DTEND;VALUE=DATE:20250517
DTSTAMP:20260425T080418
CREATED:20250508T140204Z
LAST-MODIFIED:20250508T140204Z
UID:36293-1747353600-1747439999@unae.edu.ec
SUMMARY:SESIÓN SOLEMNE DÉCIMO ANIVERSARIO UNAE
DESCRIPTION:
URL:https://unae.edu.ec/evento/sesion-solemne-decimo-aniversario-unae/
CATEGORIES:Destacados
ATTACH;FMTTYPE=image/jpeg:https://unae.edu.ec/wp-content/uploads/2025/05/evento-web.jpg
END:VEVENT
BEGIN:VEVENT
DTSTART;VALUE=DATE:20250702
DTEND;VALUE=DATE:20250705
DTSTAMP:20260425T080418
CREATED:20250317T135450Z
LAST-MODIFIED:20250519T130218Z
UID:35767-1751414400-1751673599@unae.edu.ec
SUMMARY:VI Congreso Internacional de Educación UNAE
DESCRIPTION:Transformando la educación en un mundo interconectado.
URL:https://unae.edu.ec/evento/vi-congreso-internacional-de-educacion-unae/
CATEGORIES:Destacados
ATTACH;FMTTYPE=image/jpeg:https://unae.edu.ec/wp-content/uploads/2025/03/congreso.jpeg
END:VEVENT
BEGIN:VEVENT
DTSTART;VALUE=DATE:20250918
DTEND;VALUE=DATE:20250922
DTSTAMP:20260425T080418
CREATED:20250709T142014Z
LAST-MODIFIED:20250709T142115Z
UID:37175-1758153600-1758499199@unae.edu.ec
SUMMARY:V Simposio Internacional Taptana Cañari
DESCRIPTION:
URL:https://unae.edu.ec/evento/v-simposio-internacional-taptana-canari/
CATEGORIES:Destacados
ATTACH;FMTTYPE=image/jpeg:https://unae.edu.ec/wp-content/uploads/2025/07/evento-taptana.jpeg
END:VEVENT
BEGIN:VEVENT
DTSTART;VALUE=DATE:20251111
DTEND;VALUE=DATE:20251112
DTSTAMP:20260425T080418
CREATED:20251020T144438Z
LAST-MODIFIED:20251027T180048Z
UID:38213-1762819200-1762905599@unae.edu.ec
SUMMARY:Informe de Gestión Primeras Autoridades 2021-2025
DESCRIPTION:
URL:https://unae.edu.ec/evento/informe-de-gestion-primeras-autoridades-2021-2025/
CATEGORIES:Destacados
ATTACH;FMTTYPE=image/jpeg:https://unae.edu.ec/wp-content/uploads/2025/10/info-gestion.jpeg
END:VEVENT
BEGIN:VEVENT
DTSTART;VALUE=DATE:20251117
DTEND;VALUE=DATE:20251211
DTSTAMP:20260425T080418
CREATED:20251120T171902Z
LAST-MODIFIED:20251120T171902Z
UID:38485-1763337600-1765411199@unae.edu.ec
SUMMARY:16 días de activismo Payka Paywan
DESCRIPTION:
URL:https://unae.edu.ec/evento/16-dias-de-activismo-payka-paywan/
CATEGORIES:Destacados
ATTACH;FMTTYPE=image/jpeg:https://unae.edu.ec/wp-content/uploads/2025/11/25n-2025.jpeg
END:VEVENT
BEGIN:VEVENT
DTSTART;VALUE=DATE:20251211
DTEND;VALUE=DATE:20251212
DTSTAMP:20260425T080418
CREATED:20251210T145004Z
LAST-MODIFIED:20251218T131756Z
UID:38599-1765411200-1765497599@unae.edu.ec
SUMMARY:Concierto de Villancicos Voces de Navidad
DESCRIPTION:
URL:https://unae.edu.ec/evento/voces-de-navidad/
CATEGORIES:Destacados
ATTACH;FMTTYPE=image/jpeg:https://unae.edu.ec/wp-content/uploads/2025/12/villancicos.jpeg
END:VEVENT
BEGIN:VEVENT
DTSTART;VALUE=DATE:20260121
DTEND;VALUE=DATE:20260122
DTSTAMP:20260425T080418
CREATED:20260119T210408Z
LAST-MODIFIED:20260119T210408Z
UID:38899-1768953600-1769039999@unae.edu.ec
SUMMARY:VI Juegos Ecológicos
DESCRIPTION:NUNKA YAPAJNIAMURI \nUNAE Y LOS ODS
URL:https://unae.edu.ec/evento/vi-juegos-ecologicos/
CATEGORIES:Destacados
ATTACH;FMTTYPE=image/jpeg:https://unae.edu.ec/wp-content/uploads/2026/01/sextos-juegos-ecologicos-1.jpeg
END:VEVENT
BEGIN:VEVENT
DTSTART;VALUE=DATE:20260129
DTEND;VALUE=DATE:20260131
DTSTAMP:20260425T080418
CREATED:20260112T155516Z
LAST-MODIFIED:20260112T180128Z
UID:38809-1769644800-1769817599@unae.edu.ec
SUMMARY:Jornada Académica Internacional
DESCRIPTION:Dale click en las imágenes para ingresar al evento.
URL:https://unae.edu.ec/evento/jornada-academica-internacional/
CATEGORIES:Destacados
ATTACH;FMTTYPE=image/jpeg:https://unae.edu.ec/wp-content/uploads/2026/01/portada-jornada.jpeg
END:VEVENT
BEGIN:VEVENT
DTSTART;VALUE=DATE:20260309
DTEND;VALUE=DATE:20260310
DTSTAMP:20260425T080418
CREATED:20260302T143012Z
LAST-MODIFIED:20260302T200057Z
UID:40325-1773014400-1773100799@unae.edu.ec
SUMMARY:8M WARMIKUNA
DESCRIPTION:Historia\, Reivindicación y Empoderamiento
URL:https://unae.edu.ec/evento/8m-warmikuna/
CATEGORIES:Destacados
ATTACH;FMTTYPE=image/jpeg:https://unae.edu.ec/wp-content/uploads/2026/03/8m.jpeg
END:VEVENT
BEGIN:VEVENT
DTSTART;VALUE=DATE:20260310
DTEND;VALUE=DATE:20260313
DTSTAMP:20260425T080418
CREATED:20260302T170115Z
LAST-MODIFIED:20260302T170115Z
UID:40320-1773100800-1773359999@unae.edu.ec
SUMMARY:Incorporaciones UNAE 2026
DESCRIPTION:
URL:https://unae.edu.ec/evento/incorporaciones-unae-2026/
CATEGORIES:Destacados
ATTACH;FMTTYPE=image/jpeg:https://unae.edu.ec/wp-content/uploads/2026/03/grados.jpeg
END:VEVENT
BEGIN:VEVENT
DTSTART;VALUE=DATE:20260409
DTEND;VALUE=DATE:20260410
DTSTAMP:20260425T080418
CREATED:20260407T191858Z
LAST-MODIFIED:20260407T191858Z
UID:40943-1775692800-1775779199@unae.edu.ec
SUMMARY:Informe 100 Días de Gestión
DESCRIPTION:
URL:https://unae.edu.ec/evento/informe-100-dias-de-gestion/
CATEGORIES:Destacados
ATTACH;FMTTYPE=image/jpeg:https://unae.edu.ec/wp-content/uploads/2026/04/100.jpeg
END:VEVENT
END:VCALENDAR