BEGIN:VCALENDAR
VERSION:2.0
PRODID:-//UNAE - ECPv6.15.20//NONSGML v1.0//EN
CALSCALE:GREGORIAN
METHOD:PUBLISH
X-ORIGINAL-URL:https://unae.edu.ec
X-WR-CALDESC:Eventos para UNAE
REFRESH-INTERVAL;VALUE=DURATION:PT1H
X-Robots-Tag:noindex
X-PUBLISHED-TTL:PT1H
BEGIN:VTIMEZONE
TZID:America/Guayaquil
BEGIN:STANDARD
TZOFFSETFROM:-0500
TZOFFSETTO:-0500
TZNAME:-05
DTSTART:20240101T000000
END:STANDARD
END:VTIMEZONE
BEGIN:VEVENT
DTSTART;VALUE=DATE:20250918
DTEND;VALUE=DATE:20250922
DTSTAMP:20260424T174358
CREATED:20250709T142014Z
LAST-MODIFIED:20250709T142115Z
UID:37175-1758153600-1758499199@unae.edu.ec
SUMMARY:V Simposio Internacional Taptana Cañari
DESCRIPTION:
URL:https://unae.edu.ec/evento/v-simposio-internacional-taptana-canari/
CATEGORIES:Destacados
ATTACH;FMTTYPE=image/jpeg:https://unae.edu.ec/wp-content/uploads/2025/07/evento-taptana.jpeg
END:VEVENT
END:VCALENDAR